BEGIN:VCALENDAR
VERSION:2.0
PRODID:-//Tequatre - ECPv6.15.20//NONSGML v1.0//EN
CALSCALE:GREGORIAN
METHOD:PUBLISH
X-ORIGINAL-URL:https://www.tequatre.org
X-WR-CALDESC:Esdeveniments per Tequatre
REFRESH-INTERVAL;VALUE=DURATION:PT1H
X-Robots-Tag:noindex
X-PUBLISHED-TTL:PT1H
BEGIN:VTIMEZONE
TZID:Europe/Madrid
BEGIN:DAYLIGHT
TZOFFSETFROM:+0100
TZOFFSETTO:+0200
TZNAME:CEST
DTSTART:20240331T010000
END:DAYLIGHT
BEGIN:STANDARD
TZOFFSETFROM:+0200
TZOFFSETTO:+0100
TZNAME:CET
DTSTART:20241027T010000
END:STANDARD
BEGIN:DAYLIGHT
TZOFFSETFROM:+0100
TZOFFSETTO:+0200
TZNAME:CEST
DTSTART:20250330T010000
END:DAYLIGHT
BEGIN:STANDARD
TZOFFSETFROM:+0200
TZOFFSETTO:+0100
TZNAME:CET
DTSTART:20251026T010000
END:STANDARD
BEGIN:DAYLIGHT
TZOFFSETFROM:+0100
TZOFFSETTO:+0200
TZNAME:CEST
DTSTART:20260329T010000
END:DAYLIGHT
BEGIN:STANDARD
TZOFFSETFROM:+0200
TZOFFSETTO:+0100
TZNAME:CET
DTSTART:20261025T010000
END:STANDARD
END:VTIMEZONE
BEGIN:VEVENT
DTSTART;TZID=Europe/Madrid:20250126T180000
DTEND;TZID=Europe/Madrid:20250126T180000
DTSTAMP:20260423T212807
CREATED:20250109T171511Z
LAST-MODIFIED:20250109T171511Z
UID:9038-1737914400-1737914400@www.tequatre.org
SUMMARY:Casa de nines - Gràcia
DESCRIPTION:
URL:https://www.tequatre.org/activitat/casadeninesgracia2025/
LOCATION:“El Centre” Centre Moral de Gràcia\, Ros de Olano\, 9\, Barcelona\, Barcelona\, 08012\, Espanya
CATEGORIES:Casa de nines
ATTACH;FMTTYPE=image/jpeg:https://www.tequatre.org/Arxius/2025/01/09.-Cartell-Organitzacio-Gracia-2025-TQ-19-17.jpg
ORGANIZER;CN="'El Centre' Centre Moral de Gr%C3%A0cia":MAILTO:elcentre@elcentregracia.cat
END:VEVENT
END:VCALENDAR