BEGIN:VCALENDAR
VERSION:2.0
PRODID:-//Tequatre - ECPv6.15.20//NONSGML v1.0//EN
CALSCALE:GREGORIAN
METHOD:PUBLISH
X-WR-CALNAME:Tequatre
X-ORIGINAL-URL:https://www.tequatre.org
X-WR-CALDESC:Esdeveniments per Tequatre
REFRESH-INTERVAL;VALUE=DURATION:PT1H
X-Robots-Tag:noindex
X-PUBLISHED-TTL:PT1H
BEGIN:VTIMEZONE
TZID:Europe/Madrid
BEGIN:DAYLIGHT
TZOFFSETFROM:+0100
TZOFFSETTO:+0200
TZNAME:CEST
DTSTART:20240331T010000
END:DAYLIGHT
BEGIN:STANDARD
TZOFFSETFROM:+0200
TZOFFSETTO:+0100
TZNAME:CET
DTSTART:20241027T010000
END:STANDARD
BEGIN:DAYLIGHT
TZOFFSETFROM:+0100
TZOFFSETTO:+0200
TZNAME:CEST
DTSTART:20250330T010000
END:DAYLIGHT
BEGIN:STANDARD
TZOFFSETFROM:+0200
TZOFFSETTO:+0100
TZNAME:CET
DTSTART:20251026T010000
END:STANDARD
BEGIN:DAYLIGHT
TZOFFSETFROM:+0100
TZOFFSETTO:+0200
TZNAME:CEST
DTSTART:20260329T010000
END:DAYLIGHT
BEGIN:STANDARD
TZOFFSETFROM:+0200
TZOFFSETTO:+0100
TZNAME:CET
DTSTART:20261025T010000
END:STANDARD
END:VTIMEZONE
BEGIN:VEVENT
DTSTART;TZID=Europe/Madrid:20250314T200000
DTEND;TZID=Europe/Madrid:20250314T200000
DTSTAMP:20260424T065437
CREATED:20250221T200403Z
LAST-MODIFIED:20250305T204352Z
UID:9132-1741982400-1741982400@www.tequatre.org
SUMMARY:Casa de nines - L'Armentera
DESCRIPTION:
URL:https://www.tequatre.org/activitat/casadenineslarmentera2025/
LOCATION:Sala Nova\, Carrer de l'Ajuntament\, 7\, L'Armentera\, Girona\, 17472\, Spain
CATEGORIES:Casa de nines
ATTACH;FMTTYPE=image/jpeg:https://www.tequatre.org/Arxius/2025/02/Casa-de-nines-LArmentera.jpeg
ORGANIZER;CN="Ajuntament de l'Armentera":MAILTO:ajuntament@armentera.cat
END:VEVENT
BEGIN:VEVENT
DTSTART;TZID=Europe/Madrid:20250316T180000
DTEND;TZID=Europe/Madrid:20250316T180000
DTSTAMP:20260424T065437
CREATED:20250221T194556Z
LAST-MODIFIED:20250731T205829Z
UID:9137-1742148000-1742148000@www.tequatre.org
SUMMARY:Casa de nines - Sant Antoni de Calonge
DESCRIPTION:01. Programa de mà (Organització) – S. A. Calonge (2025) – TQ 09-19
URL:https://www.tequatre.org/activitat/casadeninessantantonidecalonge2025/
LOCATION:Teatre Mundet\, C/Sant Antoni\, 165\, Sant Antoni de Calonge\, Girona\, 17252\, Espanya
CATEGORIES:Casa de nines
ATTACH;FMTTYPE=image/jpeg:https://www.tequatre.org/Arxius/2025/02/10.-Cartell-S.-A.-Calonge-2025-TQ-09-19.jpg
ORGANIZER;CN="Germandat Arturo Mundet":MAILTO:administracio@gamundet.cat
END:VEVENT
BEGIN:VEVENT
DTSTART;TZID=Europe/Madrid:20250323T180000
DTEND;TZID=Europe/Madrid:20250323T180000
DTSTAMP:20260424T065437
CREATED:20250219T154308Z
LAST-MODIFIED:20250219T154321Z
UID:9131-1742752800-1742752800@www.tequatre.org
SUMMARY:Casa de nines - Fortià
DESCRIPTION:
URL:https://www.tequatre.org/activitat/casadeninesfortia2025/
LOCATION:Centre Agrícola i Social\, Pl. de L' Empordà\, s/n\, Fortià\, Girona\, 17469\, Espanya
CATEGORIES:Casa de nines
ATTACH;FMTTYPE=image/jpeg:https://www.tequatre.org/Arxius/2025/02/Casa-de-nines-Fortia.jpg
ORGANIZER;CN="Ajuntament de Forti%C3%A0":MAILTO:ajuntament@fortia.cat
END:VEVENT
BEGIN:VEVENT
DTSTART;TZID=Europe/Madrid:20250330T180000
DTEND;TZID=Europe/Madrid:20250330T180000
DTSTAMP:20260424T065437
CREATED:20250221T195642Z
LAST-MODIFIED:20250320T115950Z
UID:9142-1743357600-1743357600@www.tequatre.org
SUMMARY:Casa de nines - Olot
DESCRIPTION:
URL:https://www.tequatre.org/activitat/casadeninesolot2025/
LOCATION:Teatre Pere Serrat\, C. Clivillers\, 7 1r\, Olot\, Girona\, 17800\, Spain
CATEGORIES:Casa de nines
ATTACH;FMTTYPE=image/jpeg:https://www.tequatre.org/Arxius/2025/02/Cartell-Casa-de-nines-Olot.jpg
ORGANIZER;CN="Secci%C3%B3 Dram%C3%A0tica Centre Cat%C3%B2lic Olot":MAILTO:ccelscatolics@gmail.com
END:VEVENT
END:VCALENDAR