BEGIN:VCALENDAR
VERSION:2.0
PRODID:-//Tequatre - ECPv6.15.20//NONSGML v1.0//EN
CALSCALE:GREGORIAN
METHOD:PUBLISH
X-WR-CALNAME:Tequatre
X-ORIGINAL-URL:https://www.tequatre.org
X-WR-CALDESC:Esdeveniments per Tequatre
REFRESH-INTERVAL;VALUE=DURATION:PT1H
X-Robots-Tag:noindex
X-PUBLISHED-TTL:PT1H
BEGIN:VTIMEZONE
TZID:Europe/Madrid
BEGIN:DAYLIGHT
TZOFFSETFROM:+0100
TZOFFSETTO:+0200
TZNAME:CEST
DTSTART:20230326T010000
END:DAYLIGHT
BEGIN:STANDARD
TZOFFSETFROM:+0200
TZOFFSETTO:+0100
TZNAME:CET
DTSTART:20231029T010000
END:STANDARD
BEGIN:DAYLIGHT
TZOFFSETFROM:+0100
TZOFFSETTO:+0200
TZNAME:CEST
DTSTART:20240331T010000
END:DAYLIGHT
BEGIN:STANDARD
TZOFFSETFROM:+0200
TZOFFSETTO:+0100
TZNAME:CET
DTSTART:20241027T010000
END:STANDARD
BEGIN:DAYLIGHT
TZOFFSETFROM:+0100
TZOFFSETTO:+0200
TZNAME:CEST
DTSTART:20250330T010000
END:DAYLIGHT
BEGIN:STANDARD
TZOFFSETFROM:+0200
TZOFFSETTO:+0100
TZNAME:CET
DTSTART:20251026T010000
END:STANDARD
END:VTIMEZONE
BEGIN:VEVENT
DTSTART;TZID=Europe/Madrid:20240214T190000
DTEND;TZID=Europe/Madrid:20240214T193000
DTSTAMP:20260421T162019
CREATED:20240207T160346Z
LAST-MODIFIED:20240207T214453Z
UID:7553-1707937200-1707939000@www.tequatre.org
SUMMARY:Club de lectura "Llegir el teatre" - "Casa de nines" - Figueres
DESCRIPTION:
URL:https://www.tequatre.org/activitat/llegirelteatrecasadeninesfigueres2024/
LOCATION:Biblioteca Fages de Climent\, Plaça del Sol\, 11\, Figueres\, Girona\, 17600\, Espanya
CATEGORIES:Ajuntament de Figueres,Biblioteca de Figueres,Casa de nines,Club de teatre,Col·laboracions altres entitats
ATTACH;FMTTYPE=image/jpeg:https://www.tequatre.org/Arxius/2024/02/Casa-de-nines-Llegir-el-teatre-Figueres.jpeg
ORGANIZER;CN="Biblioteca Fages de Climent":MAILTO:info@bibliotecadefigueres.cat
END:VEVENT
END:VCALENDAR