BEGIN:VCALENDAR
VERSION:2.0
PRODID:-//Tequatre - ECPv6.15.20//NONSGML v1.0//EN
CALSCALE:GREGORIAN
METHOD:PUBLISH
X-ORIGINAL-URL:https://www.tequatre.org
X-WR-CALDESC:Esdeveniments per Tequatre
REFRESH-INTERVAL;VALUE=DURATION:PT1H
X-Robots-Tag:noindex
X-PUBLISHED-TTL:PT1H
BEGIN:VTIMEZONE
TZID:Europe/Madrid
BEGIN:DAYLIGHT
TZOFFSETFROM:+0100
TZOFFSETTO:+0200
TZNAME:CEST
DTSTART:20230326T010000
END:DAYLIGHT
BEGIN:STANDARD
TZOFFSETFROM:+0200
TZOFFSETTO:+0100
TZNAME:CET
DTSTART:20231029T010000
END:STANDARD
BEGIN:DAYLIGHT
TZOFFSETFROM:+0100
TZOFFSETTO:+0200
TZNAME:CEST
DTSTART:20240331T010000
END:DAYLIGHT
BEGIN:STANDARD
TZOFFSETFROM:+0200
TZOFFSETTO:+0100
TZNAME:CET
DTSTART:20241027T010000
END:STANDARD
BEGIN:DAYLIGHT
TZOFFSETFROM:+0100
TZOFFSETTO:+0200
TZNAME:CEST
DTSTART:20250330T010000
END:DAYLIGHT
BEGIN:STANDARD
TZOFFSETFROM:+0200
TZOFFSETTO:+0100
TZNAME:CET
DTSTART:20251026T010000
END:STANDARD
END:VTIMEZONE
BEGIN:VEVENT
DTSTART;TZID=Europe/Madrid:20240323T200000
DTEND;TZID=Europe/Madrid:20240323T200000
DTSTAMP:20260421T053828
CREATED:20231212T164623Z
LAST-MODIFIED:20240312T181905Z
UID:7352-1711224000-1711224000@www.tequatre.org
SUMMARY:Casa de nines (Estrena) - Figueres
DESCRIPTION:
URL:https://www.tequatre.org/activitat/casadeninesestrenafigueres2024/
LOCATION:La Cate\, Ronda Rector Aroles\, 4\, Figueres\, Girona\, 17600\, Espanya
CATEGORIES:Casa de nines
ATTACH;FMTTYPE=image/jpeg:https://www.tequatre.org/Arxius/2023/12/01.-Cartell-Figueres-TQ-10-23.jpg
ORGANIZER;CN="Associaci%C3%B3 Tequatre":MAILTO:info@tequatre.org
END:VEVENT
END:VCALENDAR