BEGIN:VCALENDAR
VERSION:2.0
PRODID:-//Tequatre - ECPv6.15.20//NONSGML v1.0//EN
CALSCALE:GREGORIAN
METHOD:PUBLISH
X-ORIGINAL-URL:https://www.tequatre.org
X-WR-CALDESC:Esdeveniments per Tequatre
REFRESH-INTERVAL;VALUE=DURATION:PT1H
X-Robots-Tag:noindex
X-PUBLISHED-TTL:PT1H
BEGIN:VTIMEZONE
TZID:Europe/Madrid
BEGIN:DAYLIGHT
TZOFFSETFROM:+0100
TZOFFSETTO:+0200
TZNAME:CEST
DTSTART:20230326T010000
END:DAYLIGHT
BEGIN:STANDARD
TZOFFSETFROM:+0200
TZOFFSETTO:+0100
TZNAME:CET
DTSTART:20231029T010000
END:STANDARD
BEGIN:DAYLIGHT
TZOFFSETFROM:+0100
TZOFFSETTO:+0200
TZNAME:CEST
DTSTART:20240331T010000
END:DAYLIGHT
BEGIN:STANDARD
TZOFFSETFROM:+0200
TZOFFSETTO:+0100
TZNAME:CET
DTSTART:20241027T010000
END:STANDARD
BEGIN:DAYLIGHT
TZOFFSETFROM:+0100
TZOFFSETTO:+0200
TZNAME:CEST
DTSTART:20250330T010000
END:DAYLIGHT
BEGIN:STANDARD
TZOFFSETFROM:+0200
TZOFFSETTO:+0100
TZNAME:CET
DTSTART:20251026T010000
END:STANDARD
END:VTIMEZONE
BEGIN:VEVENT
DTSTART;TZID=Europe/Madrid:20240414T180000
DTEND;TZID=Europe/Madrid:20240414T180000
DTSTAMP:20260420T220442
CREATED:20240205T193233Z
LAST-MODIFIED:20240312T182131Z
UID:7550-1713117600-1713117600@www.tequatre.org
SUMMARY:Casa de nines - Castelló d'Empúries
DESCRIPTION:01. Programa de mà (Organització) – Castelló E. – TQ 10-23
URL:https://www.tequatre.org/activitat/casadeninescastellodempuries2024-2/
LOCATION:Convent de Sant Agusti\, Carrer de Calabró\, 2\, Castelló d'Empúries\, Girona\, 17486\, Espanya
CATEGORIES:Casa de nines
ATTACH;FMTTYPE=image/jpeg:https://www.tequatre.org/Arxius/2024/02/11.-Cartell-canvi-ubicacio-Castello-E.-TQ-10-23-1.jpg
ORGANIZER;CN="Ajuntament de Castell%C3%B3 d'Emp%C3%BAries":MAILTO:cultura@castello.cat
END:VEVENT
END:VCALENDAR