BEGIN:VCALENDAR
VERSION:2.0
PRODID:-//Tequatre - ECPv6.15.20//NONSGML v1.0//EN
CALSCALE:GREGORIAN
METHOD:PUBLISH
X-WR-CALNAME:Tequatre
X-ORIGINAL-URL:https://www.tequatre.org
X-WR-CALDESC:Esdeveniments per Tequatre
REFRESH-INTERVAL;VALUE=DURATION:PT1H
X-Robots-Tag:noindex
X-PUBLISHED-TTL:PT1H
BEGIN:VTIMEZONE
TZID:Europe/Madrid
BEGIN:DAYLIGHT
TZOFFSETFROM:+0100
TZOFFSETTO:+0200
TZNAME:CEST
DTSTART:20230326T010000
END:DAYLIGHT
BEGIN:STANDARD
TZOFFSETFROM:+0200
TZOFFSETTO:+0100
TZNAME:CET
DTSTART:20231029T010000
END:STANDARD
BEGIN:DAYLIGHT
TZOFFSETFROM:+0100
TZOFFSETTO:+0200
TZNAME:CEST
DTSTART:20240331T010000
END:DAYLIGHT
BEGIN:STANDARD
TZOFFSETFROM:+0200
TZOFFSETTO:+0100
TZNAME:CET
DTSTART:20241027T010000
END:STANDARD
BEGIN:DAYLIGHT
TZOFFSETFROM:+0100
TZOFFSETTO:+0200
TZNAME:CEST
DTSTART:20250330T010000
END:DAYLIGHT
BEGIN:STANDARD
TZOFFSETFROM:+0200
TZOFFSETTO:+0100
TZNAME:CET
DTSTART:20251026T010000
END:STANDARD
END:VTIMEZONE
BEGIN:VEVENT
DTSTART;TZID=Europe/Madrid:20241012T210000
DTEND;TZID=Europe/Madrid:20241012T210000
DTSTAMP:20260421T202140
CREATED:20240912T170533Z
LAST-MODIFIED:20240914T145805Z
UID:8688-1728766800-1728766800@www.tequatre.org
SUMMARY:Casa de nines - Santa Eugènia de Berga
DESCRIPTION:05. Cartell organització (2024) – S. E. Berga – TQ 01-19\n  \n06. Programa de mà (2024) – S. E. Berga – TQ 01-19
URL:https://www.tequatre.org/activitat/casadeninessantaeugeniadeberga2024-2/
LOCATION:Teatre Àngel Guimerà\, Plaça Àngel Guimerà\, s/n\, Sant Eugènia de Berga\, Barcelona\, 08507\, Spain
CATEGORIES:Casa de nines
ATTACH;FMTTYPE=image/jpeg:https://www.tequatre.org/Arxius/2024/09/09.-Cartell-2024-S.-E.-Berga-TQ-01-19.jpg
ORGANIZER;CN="Associaci%C3%B3 Cultural i Recreativa de Santa Eug%C3%A8nia de Berga":MAILTO:ascurseb@gmail.com
END:VEVENT
END:VCALENDAR