BEGIN:VCALENDAR
VERSION:2.0
PRODID:-//Tequatre - ECPv6.15.20//NONSGML v1.0//EN
CALSCALE:GREGORIAN
METHOD:PUBLISH
X-ORIGINAL-URL:https://www.tequatre.org
X-WR-CALDESC:Esdeveniments per Tequatre
REFRESH-INTERVAL;VALUE=DURATION:PT1H
X-Robots-Tag:noindex
X-PUBLISHED-TTL:PT1H
BEGIN:VTIMEZONE
TZID:Europe/Madrid
BEGIN:DAYLIGHT
TZOFFSETFROM:+0100
TZOFFSETTO:+0200
TZNAME:CEST
DTSTART:20240331T010000
END:DAYLIGHT
BEGIN:STANDARD
TZOFFSETFROM:+0200
TZOFFSETTO:+0100
TZNAME:CET
DTSTART:20241027T010000
END:STANDARD
BEGIN:DAYLIGHT
TZOFFSETFROM:+0100
TZOFFSETTO:+0200
TZNAME:CEST
DTSTART:20250330T010000
END:DAYLIGHT
BEGIN:STANDARD
TZOFFSETFROM:+0200
TZOFFSETTO:+0100
TZNAME:CET
DTSTART:20251026T010000
END:STANDARD
BEGIN:DAYLIGHT
TZOFFSETFROM:+0100
TZOFFSETTO:+0200
TZNAME:CEST
DTSTART:20260329T010000
END:DAYLIGHT
BEGIN:STANDARD
TZOFFSETFROM:+0200
TZOFFSETTO:+0100
TZNAME:CET
DTSTART:20261025T010000
END:STANDARD
END:VTIMEZONE
BEGIN:VEVENT
DTSTART;TZID=Europe/Madrid:20251012T190000
DTEND;TZID=Europe/Madrid:20251012T190000
DTSTAMP:20260424T222943
CREATED:20250813T132319Z
LAST-MODIFIED:20251028T171507Z
UID:9522-1760295600-1760295600@www.tequatre.org
SUMMARY:Casa de nines - Navata
DESCRIPTION:
URL:https://www.tequatre.org/activitat/casadeninesnavata2025/
LOCATION:Sala del Sindicat de Navata\, Carrer de la Creu\, 13\, Navata\, Girona\, 17744\, Spain
CATEGORIES:Casa de nines
ATTACH;FMTTYPE=image/jpeg:https://www.tequatre.org/Arxius/2025/08/09.-Cartell-Navata-TQ-10-23.jpg
ORGANIZER;CN="Ajuntament de Navata":MAILTO:ajuntament@navata.cat
END:VEVENT
END:VCALENDAR