BEGIN:VCALENDAR
VERSION:2.0
PRODID:-//Tequatre - ECPv6.15.20//NONSGML v1.0//EN
CALSCALE:GREGORIAN
METHOD:PUBLISH
X-ORIGINAL-URL:https://www.tequatre.org
X-WR-CALDESC:Esdeveniments per Tequatre
REFRESH-INTERVAL;VALUE=DURATION:PT1H
X-Robots-Tag:noindex
X-PUBLISHED-TTL:PT1H
BEGIN:VTIMEZONE
TZID:Europe/Madrid
BEGIN:DAYLIGHT
TZOFFSETFROM:+0100
TZOFFSETTO:+0200
TZNAME:CEST
DTSTART:20240331T010000
END:DAYLIGHT
BEGIN:STANDARD
TZOFFSETFROM:+0200
TZOFFSETTO:+0100
TZNAME:CET
DTSTART:20241027T010000
END:STANDARD
BEGIN:DAYLIGHT
TZOFFSETFROM:+0100
TZOFFSETTO:+0200
TZNAME:CEST
DTSTART:20250330T010000
END:DAYLIGHT
BEGIN:STANDARD
TZOFFSETFROM:+0200
TZOFFSETTO:+0100
TZNAME:CET
DTSTART:20251026T010000
END:STANDARD
BEGIN:DAYLIGHT
TZOFFSETFROM:+0100
TZOFFSETTO:+0200
TZNAME:CEST
DTSTART:20260329T010000
END:DAYLIGHT
BEGIN:STANDARD
TZOFFSETFROM:+0200
TZOFFSETTO:+0100
TZNAME:CET
DTSTART:20261025T010000
END:STANDARD
END:VTIMEZONE
BEGIN:VEVENT
DTSTART;TZID=Europe/Madrid:20250528T203000
DTEND;TZID=Europe/Madrid:20250528T203000
DTSTAMP:20260422T002121
CREATED:20250527T202800Z
LAST-MODIFIED:20250527T202800Z
UID:9454-1748464200-1748464200@www.tequatre.org
SUMMARY:Junta directiva extraordinària de l'Associació Tequatre 02/25
DESCRIPTION:
URL:https://www.tequatre.org/activitat/juntadirectivae02-25/
LOCATION:Associació Tequatre\, C/\, Ample\, 17\, Figueres\, Girona\, 17600\, Espanya
CATEGORIES:Junta Directiva
ORGANIZER;CN="Associaci%C3%B3 Tequatre":MAILTO:info@tequatre.org
END:VEVENT
END:VCALENDAR