BEGIN:VCALENDAR
VERSION:2.0
PRODID:-//Tequatre - ECPv6.15.20//NONSGML v1.0//EN
CALSCALE:GREGORIAN
METHOD:PUBLISH
X-ORIGINAL-URL:https://www.tequatre.org
X-WR-CALDESC:Esdeveniments per Tequatre
REFRESH-INTERVAL;VALUE=DURATION:PT1H
X-Robots-Tag:noindex
X-PUBLISHED-TTL:PT1H
BEGIN:VTIMEZONE
TZID:Europe/Madrid
BEGIN:DAYLIGHT
TZOFFSETFROM:+0100
TZOFFSETTO:+0200
TZNAME:CEST
DTSTART:20230326T010000
END:DAYLIGHT
BEGIN:STANDARD
TZOFFSETFROM:+0200
TZOFFSETTO:+0100
TZNAME:CET
DTSTART:20231029T010000
END:STANDARD
BEGIN:DAYLIGHT
TZOFFSETFROM:+0100
TZOFFSETTO:+0200
TZNAME:CEST
DTSTART:20240331T010000
END:DAYLIGHT
BEGIN:STANDARD
TZOFFSETFROM:+0200
TZOFFSETTO:+0100
TZNAME:CET
DTSTART:20241027T010000
END:STANDARD
BEGIN:DAYLIGHT
TZOFFSETFROM:+0100
TZOFFSETTO:+0200
TZNAME:CEST
DTSTART:20250330T010000
END:DAYLIGHT
BEGIN:STANDARD
TZOFFSETFROM:+0200
TZOFFSETTO:+0100
TZNAME:CET
DTSTART:20251026T010000
END:STANDARD
END:VTIMEZONE
BEGIN:VEVENT
DTSTART;TZID=Europe/Madrid:20240906T203000
DTEND;TZID=Europe/Madrid:20240906T203000
DTSTAMP:20260424T002656
CREATED:20240827T113620Z
LAST-MODIFIED:20240827T114238Z
UID:8310-1725654600-1725654600@www.tequatre.org
SUMMARY:Espectacle inaugural "El més gran de tots" - Castelló d'Empúries (Participació)
DESCRIPTION:Programa TdT
URL:https://www.tequatre.org/activitat/espectacleinauguraltdt2024/
LOCATION:Castelló d’Empúries\, Plaça del Joc de la Pilota\, 1\, Castelló d'Empúries\, 17486
CATEGORIES:Col·laboracions altres entitats,Teatre de carrer,Terra de Trobadors
ATTACH;FMTTYPE=image/jpeg:https://www.tequatre.org/Arxius/2024/08/Cartell-TdT.jpg
ORGANIZER;CN="Ajuntament de Castell%C3%B3 d'Emp%C3%BAries":MAILTO:cultura@castello.cat
END:VEVENT
BEGIN:VEVENT
DTSTART;TZID=Europe/Madrid:20240907T200000
DTEND;TZID=Europe/Madrid:20240907T200000
DTSTAMP:20260424T002656
CREATED:20240827T113928Z
LAST-MODIFIED:20240827T113928Z
UID:8317-1725739200-1725739200@www.tequatre.org
SUMMARY:De joglars i trobadors - Castelló d'Empúries
DESCRIPTION:Programa TdT
URL:https://www.tequatre.org/activitat/dejoglarsitrobadors012024/
LOCATION:Castelló d’Empúries\, Plaça del Joc de la Pilota\, 1\, Castelló d'Empúries\, 17486
CATEGORIES:Col·laboracions altres entitats,Teatre de carrer,Terra de Trobadors
ATTACH;FMTTYPE=image/jpeg:https://www.tequatre.org/Arxius/2024/08/Cartell-TdT.jpg
ORGANIZER;CN="Ajuntament de Castell%C3%B3 d'Emp%C3%BAries":MAILTO:cultura@castello.cat
END:VEVENT
BEGIN:VEVENT
DTSTART;TZID=Europe/Madrid:20240908T180000
DTEND;TZID=Europe/Madrid:20240908T180000
DTSTAMP:20260424T002656
CREATED:20240827T114132Z
LAST-MODIFIED:20240827T114132Z
UID:8319-1725818400-1725818400@www.tequatre.org
SUMMARY:De joglars i trobadors - Castelló d'Empúries
DESCRIPTION:Programa TdT
URL:https://www.tequatre.org/activitat/dejoglarsitrobadors022024/
LOCATION:Castelló d’Empúries\, Plaça del Joc de la Pilota\, 1\, Castelló d'Empúries\, 17486
CATEGORIES:Col·laboracions altres entitats,Teatre de carrer,Terra de Trobadors
ATTACH;FMTTYPE=image/jpeg:https://www.tequatre.org/Arxius/2024/08/Cartell-TdT.jpg
ORGANIZER;CN="Ajuntament de Castell%C3%B3 d'Emp%C3%BAries":MAILTO:cultura@castello.cat
END:VEVENT
BEGIN:VEVENT
DTSTART;TZID=Europe/Madrid:20240908T203000
DTEND;TZID=Europe/Madrid:20240908T203000
DTSTAMP:20260424T002656
CREATED:20240827T113727Z
LAST-MODIFIED:20240827T114212Z
UID:8314-1725827400-1725827400@www.tequatre.org
SUMMARY:Espectacle de cloenda "El cor menjat" - Castelló d'Empúries (Participació)
DESCRIPTION:Programa TdT
URL:https://www.tequatre.org/activitat/espectaclecloendatdt2024/
LOCATION:Castelló d’Empúries\, Plaça del Joc de la Pilota\, 1\, Castelló d'Empúries\, 17486
CATEGORIES:Col·laboracions altres entitats,Teatre de carrer,Terra de Trobadors
ATTACH;FMTTYPE=image/jpeg:https://www.tequatre.org/Arxius/2024/08/Cartell-TdT.jpg
ORGANIZER;CN="Ajuntament de Castell%C3%B3 d'Emp%C3%BAries":MAILTO:cultura@castello.cat
END:VEVENT
END:VCALENDAR