BEGIN:VCALENDAR
VERSION:2.0
PRODID:-//Tequatre - ECPv6.15.20//NONSGML v1.0//EN
CALSCALE:GREGORIAN
METHOD:PUBLISH
X-ORIGINAL-URL:https://www.tequatre.org
X-WR-CALDESC:Esdeveniments per Tequatre
REFRESH-INTERVAL;VALUE=DURATION:PT1H
X-Robots-Tag:noindex
X-PUBLISHED-TTL:PT1H
BEGIN:VTIMEZONE
TZID:Europe/Madrid
BEGIN:DAYLIGHT
TZOFFSETFROM:+0100
TZOFFSETTO:+0200
TZNAME:CEST
DTSTART:20240331T010000
END:DAYLIGHT
BEGIN:STANDARD
TZOFFSETFROM:+0200
TZOFFSETTO:+0100
TZNAME:CET
DTSTART:20241027T010000
END:STANDARD
BEGIN:DAYLIGHT
TZOFFSETFROM:+0100
TZOFFSETTO:+0200
TZNAME:CEST
DTSTART:20250330T010000
END:DAYLIGHT
BEGIN:STANDARD
TZOFFSETFROM:+0200
TZOFFSETTO:+0100
TZNAME:CET
DTSTART:20251026T010000
END:STANDARD
BEGIN:DAYLIGHT
TZOFFSETFROM:+0100
TZOFFSETTO:+0200
TZNAME:CEST
DTSTART:20260329T010000
END:DAYLIGHT
BEGIN:STANDARD
TZOFFSETFROM:+0200
TZOFFSETTO:+0100
TZNAME:CET
DTSTART:20261025T010000
END:STANDARD
END:VTIMEZONE
BEGIN:VEVENT
DTSTART;VALUE=DATE:20250912
DTEND;VALUE=DATE:20250915
DTSTAMP:20260421T031309
CREATED:20250731T202202Z
LAST-MODIFIED:20250731T202202Z
UID:9496-1757635200-1757894399@www.tequatre.org
SUMMARY:XXXIII Terra de Trobadors
DESCRIPTION:
URL:https://www.tequatre.org/activitat/terradetrobadors2025/
LOCATION:Castelló d’Empúries\, Plaça del Joc de la Pilota\, 1\, Castelló d'Empúries\, 17486
CATEGORIES:Col·laboracions altres entitats,Teatre de carrer,Terra de Trobadors
ATTACH;FMTTYPE=image/jpeg:https://www.tequatre.org/Arxius/2025/07/Cartell-TdT-2025.jpeg
ORGANIZER;CN="Ajuntament de Castell%C3%B3 d'Emp%C3%BAries":MAILTO:cultura@castello.cat
END:VEVENT
END:VCALENDAR